BEGIN:VCALENDAR
VERSION:2.0
PRODID:-//wp-events-plugin.com//6.4.7.3//EN
TZID:Europe/Budapest
X-WR-TIMEZONE:Europe/Budapest
BEGIN:VEVENT
UID:124@dombovar.hu
DTSTART;TZID=Europe/Budapest:20221027T180000
DTEND;TZID=Europe/Budapest:20221027T200000
DTSTAMP:20221010T132734Z
URL:https://dombovar.hu/esemenyek/rumini-ferrit-szigeten-zenes-mesejatek/
SUMMARY:RUMINI FERRIT-SZIGETEN ZENÉS MESEJÁTÉK
DESCRIPTION:
ATTACH;FMTTYPE=image/jpeg:https://dombovar.hu/wp-content/uploads/2022/10/r
 umini-plakat-scaled.jpg
END:VEVENT
BEGIN:VTIMEZONE
TZID:Europe/Budapest
X-LIC-LOCATION:Europe/Budapest
BEGIN:DAYLIGHT
DTSTART:20220327T030000
TZOFFSETFROM:+0100
TZOFFSETTO:+0200
TZNAME:CEST
END:DAYLIGHT
END:VTIMEZONE
END:VCALENDAR